BEGIN:VCALENDAR
VERSION:2.0
PRODID:http://www.salzkoerner.de
BEGIN:VEVENT
UID:c0678aae-17b0-11f1-8342-0242ac11002b-1776855600000-de
DTSTAMP:20260304T095853Z
DTSTART:20260422T110000Z
DTEND:20260422T113000Z
SUMMARY;LANGUAGE=de:Gottesdienst der Kinder aus den Kindertagesstätten
END:VEVENT
END:VCALENDAR
