BEGIN:VCALENDAR
VERSION:2.0
PRODID:http://www.salzkoerner.de
BEGIN:VEVENT
UID:982a2352-17af-11f1-8342-0242ac11002b-1776859200000-de
DTSTAMP:20260304T095036Z
DTSTART:20260422T120000Z
DTEND:20260422T123000Z
SUMMARY;LANGUAGE=de:Gottesdienst der Kinder aus den Kindertagesstätten
END:VEVENT
END:VCALENDAR
