BEGIN:VCALENDAR
VERSION:2.0
PRODID:http://www.salzkoerner.de
BEGIN:VEVENT
UID:7f47bf22-17af-11f1-8342-0242ac11002b-1776772800000-de
DTSTAMP:20260304T094954Z
DTSTART:20260421T120000Z
DTEND:20260421T123000Z
SUMMARY;LANGUAGE=de:Gottesdienst der Kinder aus den Kindertagesstätten
END:VEVENT
END:VCALENDAR
