BEGIN:VCALENDAR
VERSION:2.0
PRODID:http://www.salzkoerner.de
BEGIN:VEVENT
UID:53f9f926-17b0-11f1-8342-0242ac11002b-1776783600000-de
DTSTAMP:20260304T095551Z
DTSTART:20260421T150000Z
DTEND:20260421T160000Z
SUMMARY;LANGUAGE=de:Pontifikalamt mitgestaltet durch den Besucherdienst des Bistums Trier
END:VEVENT
END:VCALENDAR
