BEGIN:VCALENDAR
VERSION:2.0
PRODID:http://www.salzkoerner.de
BEGIN:VEVENT
UID:250bd042-17b0-11f1-8342-0242ac11002b-1776769200000-de
DTSTAMP:20260304T095432Z
DTSTART:20260421T110000Z
DTEND:20260421T113000Z
SUMMARY;LANGUAGE=de:Gottesdienst der Kinder aus den Kindertagesstätten
END:VEVENT
END:VCALENDAR
